BEGIN:VCALENDAR
VERSION:2.0
PRODID:-//Power Protection Products, Inc. - ECPv6.15.20//NONSGML v1.0//EN
CALSCALE:GREGORIAN
METHOD:PUBLISH
X-WR-CALNAME:Power Protection Products, Inc.
X-ORIGINAL-URL:https://p3-inc.com
X-WR-CALDESC:Events for Power Protection Products, Inc.
REFRESH-INTERVAL;VALUE=DURATION:PT1H
X-Robots-Tag:noindex
X-PUBLISHED-TTL:PT1H
BEGIN:VTIMEZONE
TZID:UTC
BEGIN:STANDARD
TZOFFSETFROM:+0000
TZOFFSETTO:+0000
TZNAME:UTC
DTSTART:20250101T000000
END:STANDARD
END:VTIMEZONE
BEGIN:VEVENT
DTSTART;TZID=UTC:20261002T090000
DTEND;TZID=UTC:20261002T110000
DTSTAMP:20260423T084958
CREATED:20251209T164449Z
LAST-MODIFIED:20251209T164807Z
UID:3842-1790931600-1790938800@p3-inc.com
SUMMARY:General Power Quality Zoom Webinar
DESCRIPTION:The area’s leading power quality experts offer an introduction to power quality and demonstrate common power quality issues\, problems & solutions in today’s electrical environments. This webinar presents power quality related equipment and procedures. This learning opportunity is designed for electrical contractors\, facility managers\, network specialists and engineers\, data center managers or anyone responsible for power quality in your facility or facility designs.  \nThe webinar will cover: \n\nHarmonics: Linear power & non-linear power and the frequencies associated with each\nPower Factor: Explanation & discussion\nSurge Protection: Proper application & the new UL 1449 & ANSI/IEEE specifications\nUninterruptible Power Supply (UPS) Systems: Demonstrations of UPS functions and applications\nElectrical Noise: Explanations & discussions\n\nSign Up Here
URL:https://p3-inc.com/event/general-power-quality-zoom-webinar/
LOCATION:Zoom Webinar
CATEGORIES:Webinars
ORGANIZER;CN="Power Quality University":MAILTO:pqu@p3-inc.com
END:VEVENT
END:VCALENDAR