BEGIN:VCALENDAR
VERSION:2.0
PRODID:-//Power Protection Products, Inc. - ECPv6.15.20//NONSGML v1.0//EN
CALSCALE:GREGORIAN
METHOD:PUBLISH
X-WR-CALNAME:Power Protection Products, Inc.
X-ORIGINAL-URL:https://p3-inc.com
X-WR-CALDESC:Events for Power Protection Products, Inc.
REFRESH-INTERVAL;VALUE=DURATION:PT1H
X-Robots-Tag:noindex
X-PUBLISHED-TTL:PT1H
BEGIN:VTIMEZONE
TZID:America/Chicago
BEGIN:DAYLIGHT
TZOFFSETFROM:-0600
TZOFFSETTO:-0500
TZNAME:CDT
DTSTART:20250309T080000
END:DAYLIGHT
BEGIN:STANDARD
TZOFFSETFROM:-0500
TZOFFSETTO:-0600
TZNAME:CST
DTSTART:20251102T070000
END:STANDARD
BEGIN:DAYLIGHT
TZOFFSETFROM:-0600
TZOFFSETTO:-0500
TZNAME:CDT
DTSTART:20260308T080000
END:DAYLIGHT
BEGIN:STANDARD
TZOFFSETFROM:-0500
TZOFFSETTO:-0600
TZNAME:CST
DTSTART:20261101T070000
END:STANDARD
BEGIN:DAYLIGHT
TZOFFSETFROM:-0600
TZOFFSETTO:-0500
TZNAME:CDT
DTSTART:20270314T080000
END:DAYLIGHT
BEGIN:STANDARD
TZOFFSETFROM:-0500
TZOFFSETTO:-0600
TZNAME:CST
DTSTART:20271107T070000
END:STANDARD
END:VTIMEZONE
BEGIN:VEVENT
DTSTART;TZID=America/Chicago:20260219T120000
DTEND;TZID=America/Chicago:20260219T130000
DTSTAMP:20260419T182727
CREATED:20251204T174220Z
LAST-MODIFIED:20251211T200237Z
UID:3784-1771502400-1771506000@p3-inc.com
SUMMARY:Up Time Series: Power Factor Correction
DESCRIPTION:The area’s leading power quality experts offer an introduction to power factor issues that affect commercial & industrial businesses. The power quality experts offer a comprehensive look at the power factor that affects commercial & industrial business utility charges. This learning opportunity is designed for electrical contractors\, facility managers\, network specialists and engineers\, data center managers or anyone responsible for power quality in your facility or facility designs.\n\n \nThis webinar will cover: \n\nPower factor related definitions\nIndustry and utility standards\nEffects on a facility and utility bill\nRecognizing and correcting bad power factor\n\nSign Up Here
URL:https://p3-inc.com/event/up-time-series-power-factor-correction/
LOCATION:Zoom Webinar
CATEGORIES:Up Time Series Webinars
ATTACH;FMTTYPE=image/png:https://p3-inc.com/wp-content/uploads/2023/01/LV_PFC_Family.png
ORGANIZER;CN="Power Quality University":MAILTO:pqu@p3-inc.com
END:VEVENT
BEGIN:VEVENT
DTSTART;TZID=America/Chicago:20260206T090000
DTEND;TZID=America/Chicago:20260206T110000
DTSTAMP:20260419T182727
CREATED:20251204T164924Z
LAST-MODIFIED:20251211T174444Z
UID:3781-1770368400-1770375600@p3-inc.com
SUMMARY:Harmonics Zoom Webinar
DESCRIPTION:The area’s leading power quality experts offer an introduction to harmonics that affect commercial & industrial businesses. This seminar presents information on harmonics including explaining the term “harmonic\,” linear power\, non-linear power and the frequencies associated with each\, outlining how harmonics affect the equipment in a facility\, and introducing equipment that will help eliminate the damaging effects of harmonics. This learning opportunity is designed for electrical contractors\, facility managers\, network specialists and engineers\, data center managers or anyone responsible for power quality in your facility or facility designs. \n\nThis webinar will cover:\n\n\nLinear and non-linear power and the relationship to harmonics\nEquipment causing harmonics issues\nEquipment and facility infrastructure potentially damaged by harmonics\nMitigating or eliminating harmonics\nHarmonic mitigating equipment\n\nSign Up Here
URL:https://p3-inc.com/event/harmonics-zoom-webinar/
LOCATION:Zoom Webinar
CATEGORIES:Webinars
ATTACH;FMTTYPE=image/png:https://p3-inc.com/wp-content/uploads/2024/01/Event-Recording-e1764798723686.png
ORGANIZER;CN="Power Quality University":MAILTO:pqu@p3-inc.com
END:VEVENT
BEGIN:VEVENT
DTSTART;TZID=America/Chicago:20260115T120000
DTEND;TZID=America/Chicago:20260115T130000
DTSTAMP:20260419T182727
CREATED:20251204T155605Z
LAST-MODIFIED:20260109T161436Z
UID:3777-1768478400-1768482000@p3-inc.com
SUMMARY:Up Time Series: Surge Protection Devices Zoom Webinar
DESCRIPTION:The area’s leading power quality experts offer an introduction to surge protection for commercial & industrial businesses. This seminar presents surge protection related equipment\, procedures\, and problem solutions. This learning opportunity is designed for electrical contractors\, facility managers\, network specialists and engineers\, data center managers or anyone responsible for power quality in your facility or facility designs.  \nThis webinar will cover: \n\nTransient Environment Introduction\nSurge Protection Units Comparison\nNew NEC Code Update Discussion\nProper Applications\nSee Installation Examples\nActual Test Results and Specs\n\nSign Up Here
URL:https://p3-inc.com/event/up-time-series-surge-protection-devices-zoom-webinar/
LOCATION:Zoom Webinar
CATEGORIES:Up Time Series Webinars
ATTACH;FMTTYPE=image/png:https://p3-inc.com/wp-content/uploads/2025/12/SPD-Family-1.png
ORGANIZER;CN="Power Quality University":MAILTO:pqu@p3-inc.com
END:VEVENT
BEGIN:VEVENT
DTSTART;TZID=America/Chicago:20260109T090000
DTEND;TZID=America/Chicago:20260109T110000
DTSTAMP:20260419T182727
CREATED:20251204T154951Z
LAST-MODIFIED:20251211T171302Z
UID:3774-1767949200-1767956400@p3-inc.com
SUMMARY:Power Quality Monitoring Zoom Webinar
DESCRIPTION:The area’s leading power quality experts offer an introduction to power quality monitoring issues that affect commercial and industrial businesses. Proper power quality monitoring has benefits such as recognizing problems\, improving system performance\, and reducing downtime. This learning opportunity is designed for electrical contractors\, facility managers\, network specialists and engineers\, data center managers or anyone responsible for power quality in your facility or facility designs.  \nThis webinar will cover: \n\nDefining the monitoring process\nDetermining the correct monitoring equipment\nEquipment placement and installation procedures\nIdentify steps for meter installation and removal\nInterpreting the raw data\nReport writing and analysis\nMaking recommendations for improvement\n\nSign Up Here
URL:https://p3-inc.com/event/power-quality-monitoring-zoom-webinar/
LOCATION:Zoom Webinar
CATEGORIES:Webinars
ATTACH;FMTTYPE=image/png:https://p3-inc.com/wp-content/uploads/2022/04/Power-Quality.png
ORGANIZER;CN="Power Quality University":MAILTO:pqu@p3-inc.com
END:VEVENT
END:VCALENDAR