BEGIN:VCALENDAR
VERSION:2.0
PRODID:-//Power Protection Products, Inc. - ECPv6.15.20//NONSGML v1.0//EN
CALSCALE:GREGORIAN
METHOD:PUBLISH
X-WR-CALNAME:Power Protection Products, Inc.
X-ORIGINAL-URL:https://p3-inc.com
X-WR-CALDESC:Events for Power Protection Products, Inc.
REFRESH-INTERVAL;VALUE=DURATION:PT1H
X-Robots-Tag:noindex
X-PUBLISHED-TTL:PT1H
BEGIN:VTIMEZONE
TZID:UTC
BEGIN:STANDARD
TZOFFSETFROM:+0000
TZOFFSETTO:+0000
TZNAME:UTC
DTSTART:20250101T000000
END:STANDARD
END:VTIMEZONE
BEGIN:VEVENT
DTSTART;TZID=UTC:20260911T090000
DTEND;TZID=UTC:20260911T130000
DTSTAMP:20260421T105430
CREATED:20251209T163527Z
LAST-MODIFIED:20260108T161656Z
UID:3838-1789117200-1789131600@p3-inc.com
SUMMARY:Surge Protection Devices Zoom Webinar
DESCRIPTION:The area’s leading power quality experts offer an introduction to surge protection for commercial & industrial businesses. This webinar presents surge protection related equipment\, procedures\, and problem solutions. This learning opportunity is designed for electrical contractors\, facility managers\, network specialists and engineers\, data center managers or anyone responsible for power quality in your facility or facility designs.  \nThis webinar will cover: \n\nTransient Environment Introduction\nSurge Protection Units Comparison\nNew NEC Code Update Discussion\nProper Applications\nSee Installation Examples\nActual Test Results and Specs\n\nSign Up Here
URL:https://p3-inc.com/event/surge-protection-devices-zoom-webinar/
LOCATION:Zoom Webinar
CATEGORIES:Webinars
ATTACH;FMTTYPE=image/png:https://p3-inc.com/wp-content/uploads/2025/12/SPD-Family-1.png
ORGANIZER;CN="Power Quality University":MAILTO:pqu@p3-inc.com
END:VEVENT
BEGIN:VEVENT
DTSTART;TZID=UTC:20260917T080000
DTEND;TZID=UTC:20260917T170000
DTSTAMP:20260421T105430
CREATED:20251209T163819Z
LAST-MODIFIED:20260108T154230Z
UID:3840-1789632000-1789664400@p3-inc.com
SUMMARY:Up Time Series: Power Quality Monitoring Zoom Webinar
DESCRIPTION:The area’s leading power quality experts offer an introduction to power quality monitoring issues that affect commercial and industrial businesses. Proper power quality monitoring has benefits such as recognizing problems\, improving system performance\, and reducing downtime. This learning opportunity is designed for electrical contractors\, facility managers\, network specialists and engineers\, data center managers or anyone responsible for power quality in your facility or facility designs.  \nThis webinar will cover: \n\nDefining the monitoring process\nDetermining the correct monitoring equipment\nEquipment placement and installation procedures\nIdentify steps for meter installation and removal\nInterpreting the raw data\nReport writing and analysis\nMaking recommendations for improvement\n\nSign Up Here
URL:https://p3-inc.com/event/up-time-series-power-quality-monitoring-zoom-webinar/
LOCATION:Zoom Webinar
CATEGORIES:Up Time Series Webinars
ATTACH;FMTTYPE=image/jpeg:https://p3-inc.com/wp-content/uploads/2022/07/IMG_2980-scaled-e1764791504972.jpg
ORGANIZER;CN="Power Quality University":MAILTO:pqu@p3-inc.com
END:VEVENT
END:VCALENDAR